BEGIN:VCALENDAR
VERSION:2.0
PRODID:-//Marie Gutbub | Communication · Campaigns · Events · Training - ECPv6.2.6//NONSGML v1.0//EN
CALSCALE:GREGORIAN
METHOD:PUBLISH
X-ORIGINAL-URL:https://maryshi.ro
X-WR-CALDESC:Events for Marie Gutbub | Communication · Campaigns · Events · Training
REFRESH-INTERVAL;VALUE=DURATION:PT1H
X-Robots-Tag:noindex
X-PUBLISHED-TTL:PT1H
BEGIN:VTIMEZONE
TZID:Europe/Paris
BEGIN:DAYLIGHT
TZOFFSETFROM:+0100
TZOFFSETTO:+0200
TZNAME:CEST
DTSTART:20190331T010000
END:DAYLIGHT
BEGIN:STANDARD
TZOFFSETFROM:+0200
TZOFFSETTO:+0100
TZNAME:CET
DTSTART:20191027T010000
END:STANDARD
END:VTIMEZONE
BEGIN:VEVENT
DTSTART;VALUE=DATE:20190517
DTEND;VALUE=DATE:20190719
DTSTAMP:20260425T012908
CREATED:20190408T210612Z
LAST-MODIFIED:20190408T210612Z
UID:338-1558051200-1563494399@maryshi.ro
SUMMARY:Data Terra Nemo
DESCRIPTION:Data Terra Nemo is a technical conference for hackers and computer scientists focused on distributed and decentralized systems. \nSold out! (But there’s a waiting list)
URL:https://maryshi.ro/event/data-terra-nemo/
LOCATION:Funkhaus\, Nalepastraße 18 - Block B\, Studio 4\, Berlin\, 12459
END:VEVENT
BEGIN:VEVENT
DTSTART;VALUE=DATE:20190518
DTEND;VALUE=DATE:20190520
DTSTAMP:20260425T012908
CREATED:20190410T132612Z
LAST-MODIFIED:20190410T132612Z
UID:351-1558137600-1558310399@maryshi.ro
SUMMARY:OSCAL
DESCRIPTION:OSCAL is the annual international Open Source Free Software Conference in Albania dedicated to empowering Software Freedom\, Open Knowledge\, Free Culture and Decentralization.
URL:https://maryshi.ro/event/oscal/
LOCATION:OFICINA\, Rruga Asim Vokshi\, Tirana\, Albania
END:VEVENT
BEGIN:VEVENT
DTSTART;VALUE=DATE:20190520
DTEND;VALUE=DATE:20190603
DTSTAMP:20260425T012908
CREATED:20190408T220907Z
LAST-MODIFIED:20190408T220907Z
UID:344-1558310400-1559519999@maryshi.ro
SUMMARY:OpenTechSummit
DESCRIPTION:Hauptevent 30. Mai.\nWir bauen Software\, Apps und entwerfen 3D-Drucke\, Wearables und computerisierte Heimmaschinen im Eigenbau \n\n  \n\n\n8. Mai\, Dienstag 19:00 – 22:00 Vue.js Berlin Ort: fromAtoB Office\nWe’ll talk about Vue.js\, Vuex and the Vuejs ecosystem. \n\n\n\n9. Mai\, Mittwoch 16:30 – 19:30 Workshops Ort: Toplab in Berlin Neukölln\nOffene Technologien \n\n\n\n30. Mai\, Himmelfahrt Donnerstag 10:00 – 17:00 Tech-Talks und Diskussionen Ort: CO.UP in Berlin Kreuzberg\n10:00 OpenTech Today\, Mario Behling\n10:10 Open Event Ticketing and Management System\, Juan Pardo\n10:30 OpenTech in Asia\, Hong Phuc Dang\n11:00 Top Lab\, a transdisciplinary space\, Mindaugas Gapševičius\, Alessandro Volpato\n11:30 ASKotec and Open Tech Emergency Case and Open Source Ecology with LibreSolarBox\, Timm Wille\, Stephen Kovats\n13:00 Lightning Talks\, Andre Rebentisch\n13:30 Memex – a distributed search engine for your digital knowledge\, Oliver Sauter\n14:00 SUSI.AI\, Michael Christen\n15:00 Identihub und SVG Version Control for Designers\, Elio Qoshi\n15:30 Status of the Open Source GPU Support\, Robert Foss\n16:00 End-to-end Encryption in Nextcloud\, Jos Poortvliet\n16:30 Open Source Design\, Jan Dittrich \n\n\n\n10. Mai\, Donnerstag 14:00 – 18:00 Solar Workshop Ort: Open Culture Office\, Berlin \n\n\n\n11. Mai\, Freitag 17:00 – 20:00 Pocket Science Lab Workshop Ort: FFII Office Berlin-Prenzlauer Berg \n\n\n\n12. Mai\, Samstag 14:00 – 17:00\, Coderdojo Ort: Hasso-Plattner-Institut in Potsdam\n\n\n\n12. Mai\, Samstag 14:00 – 17:00\, Coderdojo Ort: Tanzsaal EPD Berlin\n\n\n\n13. Mai\, Sonntag 10:00 – 15:00\, Open Tech Brunch Ort: Berlin-Friedrichshain\n\n\n 
URL:https://maryshi.ro/event/opentechsummit/
LOCATION:CO.UP & other locations\, Adalbertstraße 8\, Berlin\, 10999\, Germany
END:VEVENT
END:VCALENDAR