BEGIN:VCALENDAR
VERSION:2.0
PRODID:-//Marie Gutbub | Communication · Campaigns · Events · Training - ECPv6.2.6//NONSGML v1.0//EN
CALSCALE:GREGORIAN
METHOD:PUBLISH
X-WR-CALNAME:Marie Gutbub | Communication · Campaigns · Events · Training
X-ORIGINAL-URL:https://maryshi.ro
X-WR-CALDESC:Events for Marie Gutbub | Communication · Campaigns · Events · Training
REFRESH-INTERVAL;VALUE=DURATION:PT1H
X-Robots-Tag:noindex
X-PUBLISHED-TTL:PT1H
BEGIN:VTIMEZONE
TZID:Europe/Paris
BEGIN:DAYLIGHT
TZOFFSETFROM:+0100
TZOFFSETTO:+0200
TZNAME:CEST
DTSTART:20190331T010000
END:DAYLIGHT
BEGIN:STANDARD
TZOFFSETFROM:+0200
TZOFFSETTO:+0100
TZNAME:CET
DTSTART:20191027T010000
END:STANDARD
END:VTIMEZONE
BEGIN:VEVENT
DTSTART;VALUE=DATE:20190808
DTEND;VALUE=DATE:20190816
DTSTAMP:20260424T205423
CREATED:20190408T211015Z
LAST-MODIFIED:20190408T211015Z
UID:341-1565222400-1565913599@maryshi.ro
SUMMARY:BornHack
DESCRIPTION:BornHack is a 7 day outdoor tent camp where hackers\, makers and people with an interest in technology or security come together to celebrate technology\, socialise\, learn and have fun.
URL:https://maryshi.ro/event/bornhack/
LOCATION:Funen\, Funen Island\, Denmark
END:VEVENT
END:VCALENDAR