BEGIN:VCALENDAR
VERSION:2.0
PRODID:-//Marie Gutbub | Communication · Campaigns · Events · Training - ECPv6.2.6//NONSGML v1.0//EN
CALSCALE:GREGORIAN
METHOD:PUBLISH
X-WR-CALNAME:Marie Gutbub | Communication · Campaigns · Events · Training
X-ORIGINAL-URL:https://maryshi.ro
X-WR-CALDESC:Events for Marie Gutbub | Communication · Campaigns · Events · Training
REFRESH-INTERVAL;VALUE=DURATION:PT1H
X-Robots-Tag:noindex
X-PUBLISHED-TTL:PT1H
BEGIN:VTIMEZONE
TZID:Europe/Paris
BEGIN:DAYLIGHT
TZOFFSETFROM:+0100
TZOFFSETTO:+0200
TZNAME:CEST
DTSTART:20190331T010000
END:DAYLIGHT
BEGIN:STANDARD
TZOFFSETFROM:+0200
TZOFFSETTO:+0100
TZNAME:CET
DTSTART:20191027T010000
END:STANDARD
END:VTIMEZONE
BEGIN:VEVENT
DTSTART;VALUE=DATE:20190913
DTEND;VALUE=DATE:20190916
DTSTAMP:20260424T191826
CREATED:20190408T203818Z
LAST-MODIFIED:20190408T203852Z
UID:331-1568332800-1568591999@maryshi.ro
SUMMARY:Balkan Computer Congress - BalcCon2k19
DESCRIPTION:Our major goal is to gather all the communities from the region and abroad so we can socialize\, hack\, play\, learn\, exchange knowledge and experience and of course\, party together. \nBalCCon is community organized and non commercial event – from Hackers to Hackers. We are aiming to become the center of the hacker community in the region as well as to provide an opportunity for all the people in this part of Europe to connect and to cooperate.
URL:https://maryshi.ro/event/balkan-computer-congress-balccon2k19/
LOCATION:Novi Sad Fair – Congress Centre\, Hajduk Veljkova 11\, Novi Sad\, Serbia
END:VEVENT
BEGIN:VEVENT
DTSTART;VALUE=DATE:20190914
DTEND;VALUE=DATE:20190916
DTSTAMP:20260424T191826
CREATED:20190408T201951Z
LAST-MODIFIED:20190410T132727Z
UID:321-1568419200-1568591999@maryshi.ro
SUMMARY:Nextcloud Conference
DESCRIPTION:Annually bringing the global Nextcloud Contributor Community together for a week of coding\, design\, discussion\, talks & fun.
URL:https://maryshi.ro/event/nextcloud-conference/
LOCATION:Technische Universität\, Straße des 17. Juni 135\, Berlin\, 10623\, Germany
END:VEVENT
END:VCALENDAR