BEGIN:VCALENDAR
VERSION:2.0
PRODID:-//Marie Gutbub | Communication · Campaigns · Events · Training - ECPv6.2.6//NONSGML v1.0//EN
CALSCALE:GREGORIAN
METHOD:PUBLISH
X-ORIGINAL-URL:https://maryshi.ro
X-WR-CALDESC:Events for Marie Gutbub | Communication · Campaigns · Events · Training
REFRESH-INTERVAL;VALUE=DURATION:PT1H
X-Robots-Tag:noindex
X-PUBLISHED-TTL:PT1H
BEGIN:VTIMEZONE
TZID:Europe/Paris
BEGIN:DAYLIGHT
TZOFFSETFROM:+0100
TZOFFSETTO:+0200
TZNAME:CEST
DTSTART:20190331T010000
END:DAYLIGHT
BEGIN:STANDARD
TZOFFSETFROM:+0200
TZOFFSETTO:+0100
TZNAME:CET
DTSTART:20191027T010000
END:STANDARD
END:VTIMEZONE
BEGIN:VEVENT
DTSTART;VALUE=DATE:20190920
DTEND;VALUE=DATE:20190922
DTSTAMP:20260424T191944
CREATED:20190425T172437Z
LAST-MODIFIED:20190425T172437Z
UID:370-1568937600-1569110399@maryshi.ro
SUMMARY:Citizens of Evidence
DESCRIPTION:Disruption Network Lab is an ongoing platform of events and research focused on the intersection of politics\, technology and society. We are a Berlin-based nonprofit organisation that has since 2014 organised participatory\, interdisciplinary\, international events at the intersection of human rights and technology with the objective of strengthening freedom of speech\, and exposing the misconduct and wrongdoing of the powerful. \nMore info about this event tba.
URL:https://maryshi.ro/event/citizens-of-evidence/
LOCATION:Kunstquartier Bethanien\, Studio 1\, Mariannenplatz 2\, Berlin\, 10997\, Germany
END:VEVENT
END:VCALENDAR