BEGIN:VCALENDAR
VERSION:2.0
PRODID:-//Marie Gutbub | Communication · Campaigns · Events · Training - ECPv6.2.6//NONSGML v1.0//EN
CALSCALE:GREGORIAN
METHOD:PUBLISH
X-ORIGINAL-URL:https://maryshi.ro
X-WR-CALDESC:Events for Marie Gutbub | Communication · Campaigns · Events · Training
REFRESH-INTERVAL;VALUE=DURATION:PT1H
X-Robots-Tag:noindex
X-PUBLISHED-TTL:PT1H
BEGIN:VTIMEZONE
TZID:Europe/Paris
BEGIN:DAYLIGHT
TZOFFSETFROM:+0100
TZOFFSETTO:+0200
TZNAME:CEST
DTSTART:20190331T010000
END:DAYLIGHT
BEGIN:STANDARD
TZOFFSETFROM:+0200
TZOFFSETTO:+0100
TZNAME:CET
DTSTART:20191027T010000
END:STANDARD
END:VTIMEZONE
BEGIN:VEVENT
DTSTART;VALUE=DATE:20191125
DTEND;VALUE=DATE:20191130
DTSTAMP:20260424T144004
CREATED:20191107T175805Z
LAST-MODIFIED:20191107T175805Z
UID:486-1574640000-1575071999@maryshi.ro
SUMMARY:Internet Governance Forum Berlin
DESCRIPTION:The Internet Governance Forum (IGF) was set up as an open discussion platform of the United Nations for key legal\, political\, social and technical issues relating to the internet. \nThe IGF is designed according to the “multi-stakeholder” model\, meaning that all the relevant societal groups are equally involved in preparations and implementation: from governments\, civil society\, business\, academia\, international organisations and the technical community. This is particularly of note in terms of representatives from developing and newly industrialising countries\, who otherwise tend to be under-represented. \nThe forum was established in 2006 by the Secretary-General of the United Nations (UN). The IGF does not make binding decisions\, but only serves in an advisory capacity. The annual meetings are held for the purposes of discussion\, information and inspiration\, with the primary objective of facilitating equitable and constructive dialogue between the various representatives\, and to play a role in shaping debate within the relevant decision-making bodies at a national and international level. \nGlobal trends relating to internet politics\, current draft legislation and established practices are regularly discussed at these meetings. Delegates address topics including future opportunities and challenges presented by the internet\, as well as analysing ways of making full use of the internet’s potential. \nHaving previously been convened in Geneva and Paris\, the 14th Annual Meeting will be held on 25-29 November 2019 at the Estrel Congress Centre in Berlin.
URL:https://maryshi.ro/event/internet-governance-forum-berlin/
LOCATION:Estrel Congress Center\, Sonnenallee 225\, Berlin\, 12057\, Germany
END:VEVENT
BEGIN:VEVENT
DTSTART;TZID=Europe/Paris:20191128T200000
DTEND;TZID=Europe/Paris:20191128T233000
DTSTAMP:20260424T144004
CREATED:20191107T175512Z
LAST-MODIFIED:20191108T100324Z
UID:484-1574971200-1574983800@maryshi.ro
SUMMARY:Net politics salon
DESCRIPTION:Where: Room 77\, Graefestraße 77\, Berlin. \nWhen: Thursday\, November 28th\, starting at 8pm. \nWhat: Relaxed hanging out and meeting new people who care about privacy & net politics. \nBasically: If you care about net politics related topics and want to meet new people\, get involved in projects\, or just join for a drink\, this is the right place for you!
URL:https://maryshi.ro/event/net-politics-salon-3/
LOCATION:Room 77\, Graefestraße 77\, Berlin\, 10967\, Germany
END:VEVENT
END:VCALENDAR