BEGIN:VCALENDAR
VERSION:2.0
PRODID:-//Marie Gutbub | Communication · Campaigns · Events · Training - ECPv6.2.6//NONSGML v1.0//EN
CALSCALE:GREGORIAN
METHOD:PUBLISH
X-WR-CALNAME:Marie Gutbub | Communication · Campaigns · Events · Training
X-ORIGINAL-URL:https://maryshi.ro
X-WR-CALDESC:Events for Marie Gutbub | Communication · Campaigns · Events · Training
REFRESH-INTERVAL;VALUE=DURATION:PT1H
X-Robots-Tag:noindex
X-PUBLISHED-TTL:PT1H
BEGIN:VTIMEZONE
TZID:Europe/Paris
BEGIN:DAYLIGHT
TZOFFSETFROM:+0100
TZOFFSETTO:+0200
TZNAME:CEST
DTSTART:20190331T010000
END:DAYLIGHT
BEGIN:STANDARD
TZOFFSETFROM:+0200
TZOFFSETTO:+0100
TZNAME:CET
DTSTART:20191027T010000
END:STANDARD
END:VTIMEZONE
BEGIN:VEVENT
DTSTART;VALUE=DATE:20190614
DTEND;VALUE=DATE:20190616
DTSTAMP:20260425T030310
CREATED:20190425T172036Z
LAST-MODIFIED:20190506T163413Z
UID:365-1560470400-1560643199@maryshi.ro
SUMMARY:AI Traps
DESCRIPTION:This event focuses on how artificial intelligence and algorithms impact our everyday life as well as culture\, politics\, institutions and behaviours\, often reflecting inequalities based on social\, racial and gender prejudices. Computer systems can be influenced by implicit values of humans involved in data collection\, programming and usage. Algorithms are not neutral and unbiased\, and the consequence of individual decisions can be embedded on search engine results\, social media platforms and software applications reflecting systematic and unfair discrimination. \nThe analysis of algorithmic bias implies a close investigation of network structures and multiple layers of computational systems. The consequences of digitalisation are not just bounded to technology\, but are affecting our society and culture at large. AI bias could be increased by the way machines work\, taking unpredictable directions as soon as software are implemented and run by their own. \nBy connecting researchers\, writers\, journalists\, computer scientists and artists\, this event wants to demystify the conception of artificial intelligence being pure and logical\, focusing instead on how AI suffers from prejudices and bias of its human creators\, and how machine learning may produce inequality as a consequence of mainstream power structures that do not imply the presence of diversity and minorities. \nThis conference aims to provoke awareness by reflecting on possible countermeasures that come from the artistic\, technological and political framework\, critical reflecting on the usage and implementation of AI technology. \nConfirmed speakers:\nMutale Nkonde\nCharlotte Webb\nOs Keyes\nSophie Searcy\nDan McQuillan\nDia Kayyali\nAdam Harvey
URL:https://maryshi.ro/event/ai-traps/
LOCATION:Kunstquartier Bethanien\, Studio 1\, Mariannenplatz 2\, Berlin\, 10997\, Germany
END:VEVENT
BEGIN:VEVENT
DTSTART;VALUE=DATE:20190530
DTEND;VALUE=DATE:20190603
DTSTAMP:20260425T030310
CREATED:20190410T133518Z
LAST-MODIFIED:20190410T133518Z
UID:355-1559174400-1559519999@maryshi.ro
SUMMARY:Gulaschprogrammiernacht
DESCRIPTION:Hacken\, Gulasch\, Vorträge\, Cloud\, Tschunk\, Workshops\, Lounge\, Mate\, Spaß am Gerät. \nGulaschprogrammiernacht klingt fast wie ein Kochmarathon für schlaflose Informatikstudenten. Was 2002 in einem Karlsruher Kellerraum mit ein paar Technikbegeisterten angefangen hat\, ist inzwischen zu einer der größten Veranstaltungen des Chaos Computer Clubs gewachsen. Die Themen sind breit gefächert: Den Kern bilden Hard- und Softwareentwicklung\, sowie Datensicherheit. Daneben kommen aber auch Datenschutz\, Netzpolitik und viele andere faszinierende Themen zum Zug: Wie kocht man das perfekte Gulasch? Kann man aus Hardwareschrott noch schönen Schmuck basteln? Wie funktioniert eigentlich eine Nähmaschine? Wie fliegt man Raumschiffe?
URL:https://maryshi.ro/event/gulaschprogrammiernacht/
LOCATION:Staatliche Hochschule für Gestaltung (HfG)\, Lichthof\, Lorenzstraße 15\, Karlsruhe\, 76135\, Germany
END:VEVENT
BEGIN:VEVENT
DTSTART;VALUE=DATE:20190520
DTEND;VALUE=DATE:20190603
DTSTAMP:20260425T030310
CREATED:20190408T220907Z
LAST-MODIFIED:20190408T220907Z
UID:344-1558310400-1559519999@maryshi.ro
SUMMARY:OpenTechSummit
DESCRIPTION:Hauptevent 30. Mai.\nWir bauen Software\, Apps und entwerfen 3D-Drucke\, Wearables und computerisierte Heimmaschinen im Eigenbau \n\n  \n\n\n8. Mai\, Dienstag 19:00 – 22:00 Vue.js Berlin Ort: fromAtoB Office\nWe’ll talk about Vue.js\, Vuex and the Vuejs ecosystem. \n\n\n\n9. Mai\, Mittwoch 16:30 – 19:30 Workshops Ort: Toplab in Berlin Neukölln\nOffene Technologien \n\n\n\n30. Mai\, Himmelfahrt Donnerstag 10:00 – 17:00 Tech-Talks und Diskussionen Ort: CO.UP in Berlin Kreuzberg\n10:00 OpenTech Today\, Mario Behling\n10:10 Open Event Ticketing and Management System\, Juan Pardo\n10:30 OpenTech in Asia\, Hong Phuc Dang\n11:00 Top Lab\, a transdisciplinary space\, Mindaugas Gapševičius\, Alessandro Volpato\n11:30 ASKotec and Open Tech Emergency Case and Open Source Ecology with LibreSolarBox\, Timm Wille\, Stephen Kovats\n13:00 Lightning Talks\, Andre Rebentisch\n13:30 Memex – a distributed search engine for your digital knowledge\, Oliver Sauter\n14:00 SUSI.AI\, Michael Christen\n15:00 Identihub und SVG Version Control for Designers\, Elio Qoshi\n15:30 Status of the Open Source GPU Support\, Robert Foss\n16:00 End-to-end Encryption in Nextcloud\, Jos Poortvliet\n16:30 Open Source Design\, Jan Dittrich \n\n\n\n10. Mai\, Donnerstag 14:00 – 18:00 Solar Workshop Ort: Open Culture Office\, Berlin \n\n\n\n11. Mai\, Freitag 17:00 – 20:00 Pocket Science Lab Workshop Ort: FFII Office Berlin-Prenzlauer Berg \n\n\n\n12. Mai\, Samstag 14:00 – 17:00\, Coderdojo Ort: Hasso-Plattner-Institut in Potsdam\n\n\n\n12. Mai\, Samstag 14:00 – 17:00\, Coderdojo Ort: Tanzsaal EPD Berlin\n\n\n\n13. Mai\, Sonntag 10:00 – 15:00\, Open Tech Brunch Ort: Berlin-Friedrichshain\n\n\n 
URL:https://maryshi.ro/event/opentechsummit/
LOCATION:CO.UP & other locations\, Adalbertstraße 8\, Berlin\, 10999\, Germany
END:VEVENT
BEGIN:VEVENT
DTSTART;VALUE=DATE:20190518
DTEND;VALUE=DATE:20190520
DTSTAMP:20260425T030310
CREATED:20190410T132612Z
LAST-MODIFIED:20190410T132612Z
UID:351-1558137600-1558310399@maryshi.ro
SUMMARY:OSCAL
DESCRIPTION:OSCAL is the annual international Open Source Free Software Conference in Albania dedicated to empowering Software Freedom\, Open Knowledge\, Free Culture and Decentralization.
URL:https://maryshi.ro/event/oscal/
LOCATION:OFICINA\, Rruga Asim Vokshi\, Tirana\, Albania
END:VEVENT
BEGIN:VEVENT
DTSTART;VALUE=DATE:20190506
DTEND;VALUE=DATE:20190509
DTSTAMP:20260425T030310
CREATED:20190408T202615Z
LAST-MODIFIED:20190425T174406Z
UID:325-1557100800-1557359999@maryshi.ro
SUMMARY:re:publica 2019
DESCRIPTION:The thirteenth edition of the conference (some call it a festival) will happen on  May 6\, 7 and 8 at  STATION Berlin together with MEDIA CONVENTION Berlin. Once again and IRL we will bring together a diverse group of people from all over the world: the digital society. We will talk\, we will debate\, we may argue; but more than ever\, we will go IN DEPTH. Because things are complicated. Things are complex. Things need to be thought through\, discussed and looked at from different angles. This is why we are dedicating the next re:publica to the long read\, the small print\, the footnotes; to the power of research\, the power of controversy and the urgency not to simplify the issues that divide (or unite!) us. The hashtag is  #rp19  and the motto is  tl;dr  which is Internet slang and stands for too long; didn’t read.
URL:https://maryshi.ro/event/republica-2019/
LOCATION:Station Berlin\, Luckenwalder Str. 4-6\, Berlin\, 10963\, Germany
END:VEVENT
BEGIN:VEVENT
DTSTART;TZID=Europe/Paris:20190504T173000
DTEND;TZID=Europe/Paris:20190504T233000
DTSTAMP:20260425T030310
CREATED:20190425T173353Z
LAST-MODIFIED:20190425T173353Z
UID:374-1556991000-1557012600@maryshi.ro
SUMMARY:LNP300
DESCRIPTION:Am 4. Mai 2019 findet in Berlin die nächste Live-Veranstaltung von Logbuch:Netzpolitik statt. Wir möchten dieses Jubiläum wieder mit Euch gemeinsam begehen und freuen uns auf Eure Teilnahme. \nDas ganze findet wie im letzten Jahr im Babylon in Berlin statt. Um 17:30 ist Einlass\, ab 19:00 Uhr geht es los. Das wie die Pausen in der Veranstaltung geben Euch genug Gelegenheit\, auch andere Hörerinnen und Hörer kennenzulernen so wie auch die vielen Mitstreiter:innen von Logbuch:Netzpolitik\, die das Programm in den letzten Jahren begleitet haben.
URL:https://maryshi.ro/event/lnp300/
LOCATION:Babylon\, Rosa-Luxemburg-Str. 30\, Berlin\, 10178\, Germany
END:VEVENT
BEGIN:VEVENT
DTSTART;VALUE=DATE:20190504
DTEND;VALUE=DATE:20190506
DTSTAMP:20260425T030310
CREATED:20190425T173911Z
LAST-MODIFIED:20190425T173911Z
UID:378-1556928000-1557100799@maryshi.ro
SUMMARY:Netzfest 2019
DESCRIPTION:Das digitale Volksfest – Gratis\, draussen\, für alle!
URL:https://maryshi.ro/event/netzfest-2019/
LOCATION:Park am Gleisdreieck\, Möckernstraße 2\, Berlin\, 10963\, Germany
END:VEVENT
END:VCALENDAR