BEGIN:VCALENDAR
VERSION:2.0
PRODID:-//Marie Gutbub | Communication · Campaigns · Events · Training - ECPv6.2.6//NONSGML v1.0//EN
CALSCALE:GREGORIAN
METHOD:PUBLISH
X-ORIGINAL-URL:https://maryshi.ro
X-WR-CALDESC:Events for Marie Gutbub | Communication · Campaigns · Events · Training
REFRESH-INTERVAL;VALUE=DURATION:PT1H
X-Robots-Tag:noindex
X-PUBLISHED-TTL:PT1H
BEGIN:VTIMEZONE
TZID:Europe/Paris
BEGIN:DAYLIGHT
TZOFFSETFROM:+0100
TZOFFSETTO:+0200
TZNAME:CEST
DTSTART:20190331T010000
END:DAYLIGHT
BEGIN:STANDARD
TZOFFSETFROM:+0200
TZOFFSETTO:+0100
TZNAME:CET
DTSTART:20191027T010000
END:STANDARD
BEGIN:DAYLIGHT
TZOFFSETFROM:+0100
TZOFFSETTO:+0200
TZNAME:CEST
DTSTART:20200329T010000
END:DAYLIGHT
BEGIN:STANDARD
TZOFFSETFROM:+0200
TZOFFSETTO:+0100
TZNAME:CET
DTSTART:20201025T010000
END:STANDARD
END:VTIMEZONE
BEGIN:VEVENT
DTSTART;VALUE=DATE:20191227
DTEND;VALUE=DATE:20191231
DTSTAMP:20260425T130802
CREATED:20191101T151649Z
LAST-MODIFIED:20191101T151649Z
UID:468-1577404800-1577750399@maryshi.ro
SUMMARY:36c3 - Chaos Communication Congress
DESCRIPTION:The 36th Chaos Communication Congress (36C3) is the 2019 edition of the annual four-day conference on technology\, society and utopia organised by the Chaos Computer Club (CCC) and volunteers. \nThe Congress offers lectures and workshops and various events on a multitude of topics including (but not limited to) information technology and generally a critical-creative attitude towards technology and the discussion about the effects of technological advances on society.
URL:https://maryshi.ro/event/36c3-chaos-communication-congress/
LOCATION:Messe Leipzig\, Messe-Allee 1\, Leipzig\, 04356\, Germany
END:VEVENT
BEGIN:VEVENT
DTSTART;TZID=Europe/Paris:20200123T200000
DTEND;TZID=Europe/Paris:20200123T233000
DTSTAMP:20260425T130802
CREATED:20200115T165117Z
LAST-MODIFIED:20200115T165117Z
UID:530-1579809600-1579822200@maryshi.ro
SUMMARY:Net Politics Salon
DESCRIPTION:Where: Room 77\, Graefestraße 77\, Berlin. \nWhen: Thursday\, January 23rd\, starting at 8pm. \nWhat: Relaxed hanging out and meeting new people who care about privacy & net politics. \nBasically: If you care about net politics related topics and want to meet new people\, get involved in projects\, or just join for a drink\, this is the right place for you!
URL:https://maryshi.ro/event/net-politics-salon-4/
LOCATION:Room 77\, Graefestraße 77\, Berlin\, 10967\, Germany
END:VEVENT
BEGIN:VEVENT
DTSTART;TZID=Europe/Paris:20200227T200000
DTEND;TZID=Europe/Paris:20200227T233000
DTSTAMP:20260425T130802
CREATED:20200225T220210Z
LAST-MODIFIED:20200225T220210Z
UID:535-1582833600-1582846200@maryshi.ro
SUMMARY:Net Politics Salon
DESCRIPTION:Where: Room 77\, Graefestraße 77\, Berlin. \nWhen: Thursday\, February 27th\, starting at 8pm. \nWhat: Relaxed hanging out and meeting new people who care about privacy & net politics. \nBasically: If you care about net politics related topics and want to meet new people\, get involved in projects\, or just join for a drink\, this is the right place for you!
URL:https://maryshi.ro/event/net-politics-salon-5/
LOCATION:Room 77\, Graefestraße 77\, Berlin\, 10967\, Germany
END:VEVENT
END:VCALENDAR