BEGIN:VCALENDAR
VERSION:2.0
PRODID:-//Marie Gutbub | Communication · Campaigns · Events · Training - ECPv6.2.6//NONSGML v1.0//EN
CALSCALE:GREGORIAN
METHOD:PUBLISH
X-ORIGINAL-URL:https://maryshi.ro
X-WR-CALDESC:Events for Marie Gutbub | Communication · Campaigns · Events · Training
REFRESH-INTERVAL;VALUE=DURATION:PT1H
X-Robots-Tag:noindex
X-PUBLISHED-TTL:PT1H
BEGIN:VTIMEZONE
TZID:Europe/Paris
BEGIN:DAYLIGHT
TZOFFSETFROM:+0100
TZOFFSETTO:+0200
TZNAME:CEST
DTSTART:20190331T010000
END:DAYLIGHT
BEGIN:STANDARD
TZOFFSETFROM:+0200
TZOFFSETTO:+0100
TZNAME:CET
DTSTART:20191027T010000
END:STANDARD
END:VTIMEZONE
BEGIN:VEVENT
DTSTART;VALUE=DATE:20191004
DTEND;VALUE=DATE:20191007
DTSTAMP:20260424T161254
CREATED:20190408T222017Z
LAST-MODIFIED:20190408T222017Z
UID:347-1570147200-1570406399@maryshi.ro
SUMMARY:HCPP - Opt-Out!
DESCRIPTION:World mandatory passportization celebrates 100th anniversary. \nA nasty dehumanization\, carefully marking all people by their governments\, stealing their biometrics. Strengthening the power of territorial states and suppressing the liberty of individuals. \nThere remains however the possibility to choose a suitable permanent residency\, to create international companies\, to get a better passport and to use state cheats to hack the tyrant. \nUse cryptographic technology to regain privacy\, to save freedom\, to step up of the first constrained realm and to build the second one. \nAchieve new freedom using globality and flexibility. \nOpt out of the system!
URL:https://maryshi.ro/event/hcpp-opt-out/
LOCATION:tba\, Dělnická 43\, Prague\, 7\, Czech Republic
END:VEVENT
BEGIN:VEVENT
DTSTART;VALUE=DATE:20191021
DTEND;VALUE=DATE:20191028
DTSTAMP:20260424T161254
CREATED:20190408T204050Z
LAST-MODIFIED:20190408T204140Z
UID:335-1571616000-1572220799@maryshi.ro
SUMMARY:Privacy Week Vienna
DESCRIPTION:
URL:https://maryshi.ro/event/privacy-week-vienna/
END:VEVENT
BEGIN:VEVENT
DTSTART;TZID=Europe/Paris:20191024T200000
DTEND;TZID=Europe/Paris:20191024T233000
DTSTAMP:20260424T161254
CREATED:20191107T175359Z
LAST-MODIFIED:20191107T175359Z
UID:482-1571947200-1571959800@maryshi.ro
SUMMARY:Net politics salon
DESCRIPTION:Where: Room 77\, Graefestraße 77\, Berlin. \nWhen: Thursday\, October 24th\, starting at 8pm. \nWhat: Relaxed hanging out and meeting new people who care about privacy & net politics. \nBasically: If you care about net politics related topics and want to meet new people\, get involved in projects\, or just join for a drink\, this is the right place for you!
URL:https://maryshi.ro/event/net-politics-salon-2/
LOCATION:Room 77\, Graefestraße 77\, Berlin\, 10967\, Germany
END:VEVENT
END:VCALENDAR